BEGIN:VCALENDAR
VERSION:2.0
PRODID:-//Imkerverein Dissen - ECPv6.15.14//NONSGML v1.0//EN
CALSCALE:GREGORIAN
METHOD:PUBLISH
X-WR-CALNAME:Imkerverein Dissen
X-ORIGINAL-URL:https://imkerverein-dissen.de
X-WR-CALDESC:Veranstaltungen für Imkerverein Dissen
REFRESH-INTERVAL;VALUE=DURATION:PT1H
X-Robots-Tag:noindex
X-PUBLISHED-TTL:PT1H
BEGIN:VTIMEZONE
TZID:Europe/Berlin
BEGIN:DAYLIGHT
TZOFFSETFROM:+0100
TZOFFSETTO:+0200
TZNAME:CEST
DTSTART:20250330T010000
END:DAYLIGHT
BEGIN:STANDARD
TZOFFSETFROM:+0200
TZOFFSETTO:+0100
TZNAME:CET
DTSTART:20251026T010000
END:STANDARD
BEGIN:DAYLIGHT
TZOFFSETFROM:+0100
TZOFFSETTO:+0200
TZNAME:CEST
DTSTART:20260329T010000
END:DAYLIGHT
BEGIN:STANDARD
TZOFFSETFROM:+0200
TZOFFSETTO:+0100
TZNAME:CET
DTSTART:20261025T010000
END:STANDARD
BEGIN:DAYLIGHT
TZOFFSETFROM:+0100
TZOFFSETTO:+0200
TZNAME:CEST
DTSTART:20270328T010000
END:DAYLIGHT
BEGIN:STANDARD
TZOFFSETFROM:+0200
TZOFFSETTO:+0100
TZNAME:CET
DTSTART:20271031T010000
END:STANDARD
END:VTIMEZONE
BEGIN:VEVENT
DTSTART;TZID=Europe/Berlin:20260919T150000
DTEND;TZID=Europe/Berlin:20260919T170000
DTSTAMP:20260423T105248
CREATED:20260207T145449Z
LAST-MODIFIED:20260207T145449Z
UID:35766-1789830000-1789837200@imkerverein-dissen.de
SUMMARY:Abflugtag
DESCRIPTION:Abflugtag\nZum Abflugtag kommen wir zusammen\, um uns in entspannter Runde über Bienen und das vergangene Bienenjahr auszutauschen. Bei Kaffee und Kuchen lassen wir das Jahr gemeinsam ausklingen\, sprechen über Erfahrungen\, Entwicklungen und alles\, was uns rund um die Bienen bewegt. Mitglieder und Gäste sind herzlich willkommen\, und wir freuen uns über eine rege Teilnahme. \n 
URL:https://imkerverein-dissen.de/event/abflugtag-3/
LOCATION:Imkerverein Dissen und Umgebung e.V.\, Lehrbienenstand am Blomberg\, Bad Laer\, Niedersachsen\, 49196\, Germany
END:VEVENT
END:VCALENDAR